BEGIN:VCALENDAR
VERSION:2.0
PRODID:-//DOLI - ECPv5.9.1//NONSGML v1.0//EN
CALSCALE:GREGORIAN
METHOD:PUBLISH
X-WR-CALNAME:DOLI
X-ORIGINAL-URL:https://www.doli.virginia.gov
X-WR-CALDESC:Events for DOLI
BEGIN:VTIMEZONE
TZID:America/New_York
BEGIN:DAYLIGHT
TZOFFSETFROM:-0500
TZOFFSETTO:-0400
TZNAME:EDT
DTSTART:20200308T070000
END:DAYLIGHT
BEGIN:STANDARD
TZOFFSETFROM:-0400
TZOFFSETTO:-0500
TZNAME:EST
DTSTART:20201101T060000
END:STANDARD
END:VTIMEZONE
BEGIN:VEVENT
DTSTART;TZID=America/New_York:20200306T080000
DTEND;TZID=America/New_York:20200306T170000
DTSTAMP:20211017T085553
CREATED:20191219T133015Z
LAST-MODIFIED:20200114T190416Z
UID:6886-1583481600-1583514000@www.doli.virginia.gov
SUMMARY:VT SHARP Logger Core Program - Logging Safety Module
DESCRIPTION:VT SHARP Logger Core Program – Logging Safety Module – organized by SHARP Logger Program – March 6th (Franklin City); \nFor more Information: Call SHARP Logger Program at: 540-231-6494 or E-mail: sharplogger@vt.edu     \nEvent Contact:\nMarinho Goncalves\nPhone: (804) 371 3104 | Ext: 106 \nmarinho.goncalves@doli.virginia.gov
URL:https://www.doli.virginia.gov/event/vt-sharp-logger-core-program-logging-safety-module/
LOCATION:Franklin City
END:VEVENT
END:VCALENDAR