BEGIN:VCALENDAR
VERSION:2.0
PRODID:-//DOLI - ECPv5.9.1//NONSGML v1.0//EN
CALSCALE:GREGORIAN
METHOD:PUBLISH
X-WR-CALNAME:DOLI
X-ORIGINAL-URL:https://www.doli.virginia.gov
X-WR-CALDESC:Events for DOLI
BEGIN:VTIMEZONE
TZID:America/New_York
BEGIN:DAYLIGHT
TZOFFSETFROM:-0500
TZOFFSETTO:-0400
TZNAME:EDT
DTSTART:20200308T070000
END:DAYLIGHT
BEGIN:STANDARD
TZOFFSETFROM:-0400
TZOFFSETTO:-0500
TZNAME:EST
DTSTART:20201101T060000
END:STANDARD
END:VTIMEZONE
BEGIN:VEVENT
DTSTART;TZID=America/New_York:20200305T100000
DTEND;TZID=America/New_York:20200305T120000
DTSTAMP:20211017T085543
CREATED:20200113T181608Z
LAST-MODIFIED:20200113T181750Z
UID:6923-1583402400-1583409600@www.doli.virginia.gov
SUMMARY:Safety and Health Codes Board Meeting
DESCRIPTION:The next meeting of the Safety and Health Codes Board will be held on March 5th\, 2020 at 10:00 AM in the Main Street Center Building\, 12th floor South.
URL:https://www.doli.virginia.gov/event/virginia-safety-and-health-codes-board-meeting/
LOCATION:Main Street Centre\, 600 East Main Street\, Richmond\, Virginia 23219  12th Floor South Conference Room
END:VEVENT
END:VCALENDAR