BEGIN:VCALENDAR
VERSION:2.0
PRODID:-//DOLI - ECPv5.4.0.2//NONSGML v1.0//EN
CALSCALE:GREGORIAN
METHOD:PUBLISH
X-WR-CALNAME:DOLI
X-ORIGINAL-URL:https://www.doli.virginia.gov
X-WR-CALDESC:Events for DOLI
BEGIN:VTIMEZONE
TZID:America/New_York
BEGIN:DAYLIGHT
TZOFFSETFROM:-0500
TZOFFSETTO:-0400
TZNAME:EDT
DTSTART:20190310T070000
END:DAYLIGHT
BEGIN:STANDARD
TZOFFSETFROM:-0400
TZOFFSETTO:-0500
TZNAME:EST
DTSTART:20191103T060000
END:STANDARD
END:VTIMEZONE
BEGIN:VEVENT
DTSTART;TZID=America/New_York:20191114T073000
DTEND;TZID=America/New_York:20191115T163000
DTSTAMP:20210516T021356
CREATED:20190821T130732Z
LAST-MODIFIED:20190821T131252Z
UID:6398-1573716600-1573835400@www.doli.virginia.gov
SUMMARY:FREE OSHA 10-Hour Course in Spanish
DESCRIPTION:Date: November 14 & 15\, 2019 Location: 8300 Boone Boulevard Suite 100\, Tyson’s VA 22181
URL:https://www.doli.virginia.gov/event/free-osha-10-hour-course-in-spanish/
LOCATION:8300 Boone Boulevard Tyson’s Virginia 22182\, 8300 Boone Boullevard\, Tyson's Virginia 22182\, Tyson\, VA\, 22181\, United States
END:VEVENT
END:VCALENDAR