BEGIN:VCALENDAR
VERSION:2.0
PRODID:-//DOLI - ECPv5.9.1//NONSGML v1.0//EN
CALSCALE:GREGORIAN
METHOD:PUBLISH
X-WR-CALNAME:DOLI
X-ORIGINAL-URL:https://www.doli.virginia.gov
X-WR-CALDESC:Events for DOLI
BEGIN:VTIMEZONE
TZID:America/New_York
BEGIN:DAYLIGHT
TZOFFSETFROM:-0500
TZOFFSETTO:-0400
TZNAME:EDT
DTSTART:20190310T070000
END:DAYLIGHT
BEGIN:STANDARD
TZOFFSETFROM:-0400
TZOFFSETTO:-0500
TZNAME:EST
DTSTART:20191103T060000
END:STANDARD
END:VTIMEZONE
BEGIN:VEVENT
DTSTART;TZID=America/New_York:20191121T180000
DTEND;TZID=America/New_York:20191121T200000
DTSTAMP:20211017T085509
CREATED:20191118T192236Z
LAST-MODIFIED:20191118T192325Z
UID:6821-1574359200-1574366400@www.doli.virginia.gov
SUMMARY:CTE Career Connections
DESCRIPTION:November is Registered Apprenticeship Month. In an effort to celebrate Registered Apprenticeship in Virginia and National Registered Apprenticeship Week\, we are hosting an event with Prince William County Schools to connect Career and Technical Education (CTE) students in Northern Virginia to companies that can provide them with employment opportunities.
URL:https://www.doli.virginia.gov/event/cte-career-connections/
LOCATION:Edward L. Kelley Leadership Center\, 14715 Bristow Rd.\, Manassas\, Va\, VA\, United States
ATTACH;FMTTYPE=image/jpeg:https://www.doli.virginia.gov/wp-content/uploads/2019/11/CTE-Career-Connection-Thumbnail.jpg
END:VEVENT
END:VCALENDAR