BEGIN:VCALENDAR
VERSION:2.0
PRODID:-//DOLI - ECPv5.4.0.2//NONSGML v1.0//EN
CALSCALE:GREGORIAN
METHOD:PUBLISH
X-WR-CALNAME:DOLI
X-ORIGINAL-URL:https://www.doli.virginia.gov
X-WR-CALDESC:Events for DOLI
BEGIN:VTIMEZONE
TZID:America/New_York
BEGIN:DAYLIGHT
TZOFFSETFROM:-0500
TZOFFSETTO:-0400
TZNAME:EDT
DTSTART:20200308T070000
END:DAYLIGHT
BEGIN:STANDARD
TZOFFSETFROM:-0400
TZOFFSETTO:-0500
TZNAME:EST
DTSTART:20201101T060000
END:STANDARD
END:VTIMEZONE
BEGIN:VEVENT
DTSTART;TZID=America/New_York:20201112T080000
DTEND;TZID=America/New_York:20201112T170000
DTSTAMP:20210514T161243
CREATED:20200410T192543Z
LAST-MODIFIED:20200728T175906Z
UID:7302-1605168000-1605200400@www.doli.virginia.gov
SUMMARY:Postponed - 8th Annual Virginia Distracted Driving Summit (November 12 - 13\, 2020)
DESCRIPTION:The 2020 Distracted Driving Summit has been postponed.  Watch this page for details. https://www.drivesmartva.org/distracted-driving-summit/ \nContact kristin.pettway@drivesmartva.org for more information
URL:https://www.doli.virginia.gov/event/8th-annual-virginia-distracted-driving-summit-november-12-13-2020/
END:VEVENT
END:VCALENDAR